BEGIN:VCALENDAR
VERSION:2.0
PRODID:-//La Cate Figueres - ECPv6.15.13//NONSGML v1.0//EN
CALSCALE:GREGORIAN
METHOD:PUBLISH
X-WR-CALNAME:La Cate Figueres
X-ORIGINAL-URL:https://lacate.cat
X-WR-CALDESC:Esdeveniments per La Cate Figueres
REFRESH-INTERVAL;VALUE=DURATION:PT1H
X-Robots-Tag:noindex
X-PUBLISHED-TTL:PT1H
BEGIN:VTIMEZONE
TZID:Europe/Madrid
BEGIN:DAYLIGHT
TZOFFSETFROM:+0100
TZOFFSETTO:+0200
TZNAME:CEST
DTSTART:20250330T010000
END:DAYLIGHT
BEGIN:STANDARD
TZOFFSETFROM:+0200
TZOFFSETTO:+0100
TZNAME:CET
DTSTART:20251026T010000
END:STANDARD
BEGIN:DAYLIGHT
TZOFFSETFROM:+0100
TZOFFSETTO:+0200
TZNAME:CEST
DTSTART:20260329T010000
END:DAYLIGHT
BEGIN:STANDARD
TZOFFSETFROM:+0200
TZOFFSETTO:+0100
TZNAME:CET
DTSTART:20261025T010000
END:STANDARD
BEGIN:DAYLIGHT
TZOFFSETFROM:+0100
TZOFFSETTO:+0200
TZNAME:CEST
DTSTART:20270328T010000
END:DAYLIGHT
BEGIN:STANDARD
TZOFFSETFROM:+0200
TZOFFSETTO:+0100
TZNAME:CET
DTSTART:20271031T010000
END:STANDARD
END:VTIMEZONE
BEGIN:VEVENT
DTSTART;TZID=Europe/Madrid:20260426T113000
DTEND;TZID=Europe/Madrid:20260426T121500
DTSTAMP:20260426T013933
CREATED:20251204T152832Z
LAST-MODIFIED:20260425T191502Z
UID:3310-1777203000-1777205700@lacate.cat
SUMMARY:Les donzelles de Bellaguarda
DESCRIPTION:Lamentem comunicar-vos que la sessió de titelles programada per a demà 26 d’abril a les 11:30h\, Les donzelles de Bellaguarda\, ha hagut de ser cancel·lada per motius de salut de la companyia. \nA aquells que teníeu entrades se us retornaran els diners. Si teniu algun dubte\, feu-nos-ho saber.  \nDisculpeu les molèsties.
URL:https://lacate.cat/event/les-donzelles-de-bellaguarda/
LOCATION:Sala Toni Montal\, Ronda Arolas\, 4\, Figueres\, Girona\, 17600
CATEGORIES:Titelles
ATTACH;FMTTYPE=image/jpeg:https://lacate.cat/wp-content/uploads/2025/12/1000075346.jpg
ORGANIZER;CN="La Cate":MAILTO:secretarialacate@gmail.com
END:VEVENT
BEGIN:VEVENT
DTSTART;TZID=Europe/Madrid:20260426T180000
DTEND;TZID=Europe/Madrid:20260426T193000
DTSTAMP:20260426T013933
CREATED:20251204T152952Z
LAST-MODIFIED:20260202T090923Z
UID:3313-1777226400-1777231800@lacate.cat
SUMMARY:Gaudí: L'arquitecte prohibit
DESCRIPTION:
URL:https://lacate.cat/event/larquitecte-prohibit/
LOCATION:La Cate\, Ronda Arolas\, 4\, Figueres\, Girona\, 17600\, Espanya
CATEGORIES:Teatre
ATTACH;FMTTYPE=image/jpeg:https://lacate.cat/wp-content/uploads/2025/12/ARQUITECTE-PROHIBIT.jpg
ORGANIZER;CN="La Cate":MAILTO:secretarialacate@gmail.com
END:VEVENT
END:VCALENDAR